Workbook

Sheet 隊職員名單
A2: 單位： | B2: (學校全銜)
A3: 領隊：
A4: 管理：
A5: 教練：
A6: 選手名單：

Sheet 國小高年級組_
A1: 臺北市115學年度教育盃國民小學擊劍錦標賽
A2: 單位名稱： | B2: =隊職員名單!B2 -> (學校全銜) | D2: 領 隊： | E2: =隊職員名單!B3 -> 0
A3: 管 理： | B3: =隊職員名單!B4 -> 0 | D3: 教 練： | E3: =隊職員名單!B5 -> 0
A4: 填 表 人： | D4: 聯絡電話:
A5: 組 別： | B5: □國小高年級組 (請打V)
A6: 項目 | B6: No. | C6: 姓名 | D6: 出生日期(生日請以民國填寫) | E6: 備註
A7: 男子鈍劍 | B7: 1 | C7: 王大明 | D7: 95.10.10 | E7: 範例
B8: 2
B9: 3
B10: 4
A11: 男子銳劍 | B11: 1
B12: 2
B13: 3
B14: 4
A15: 男子軍刀 | B15: 1
B16: 2
B17: 3
B18: 4
A19: 女子鈍劍 | B19: 1
B20: 2
B21: 3
B22: 4
A23: 女子銳劍 | B23: 1
B24: 2
B25: 3
B26: 4
A27: 女子軍刀 | B27: 1
B28: 2
B29: 3
B30: 4
A31: 體育組長： 註冊組長： 校 長： 學務主任： 教務主任： 加蓋學校印信： (表格不足時，請自行增加表格)

Sheet 國小中年級組_
A1: 臺北市115學年度教育盃國民小學擊劍錦標賽
A2: 單位名稱： | B2: =隊職員名單!B2 -> (學校全銜) | D2: 領 隊： | E2: =隊職員名單!B3 -> 0
A3: 管 理： | B3: =隊職員名單!B4 -> 0 | D3: 教 練： | E3: =隊職員名單!B5 -> 0
A4: 填 表 人： | B4: =國小高年級組_!B4 -> 0 | D4: 聯絡電話: | E4: =國小高年級組_!E4 -> 0
A5: 組 別： | B5: □國小中年級組 (請打V)
A6: 項目 | B6: No. | C6: 姓名 | D6: 出生日期(生日請以民國填寫) | E6: 備註
A7: 男子鈍劍 | B7: 1 | C7: 王大明 | D7: 95.10.10 | E7: 範例
B8: 2
B9: 3
B10: 4
A11: 男子銳劍 | B11: 1
B12: 2
B13: 3
B14: 4
A15: 男子軍刀 | B15: 1
B16: 2
B17: 3
B18: 4
A19: 女子鈍劍 | B19: 1
B20: 2
B21: 3
B22: 4
A23: 女子銳劍 | B23: 1
B24: 2
B25: 3
B26: 4
A27: 女子軍刀 | B27: 1
B28: 2
B29: 3
B30: 4
A31: 體育組長： 註冊組長： 校 長： 學務主任： 教務主任： 加蓋學校印信： (表格不足時，請自行增加表格)

Sheet 國小低年級組__
A1: 臺北市115學年度教育盃國民小學擊劍錦標賽
A2: 單位名稱： | B2: =隊職員名單!B2 -> (學校全銜) | D2: 領 隊： | E2: =隊職員名單!B3 -> 0
A3: 管 理： | B3: =隊職員名單!B4 -> 0 | D3: 教 練： | E3: =隊職員名單!B5 -> 0
A4: 填 表 人： | B4: =國小高年級組_!B4 -> 0 | D4: 聯絡電話: | E4: =國小高年級組_!E4 -> 0
A5: 組 別： | B5: □國小低年級組 (請打V)
A6: 項目 | B6: No. | C6: 姓名 | D6: 出生日期(生日請以民國填寫) | E6: 備註
A7: 男子鈍劍 | B7: 1 | C7: 王大明 | D7: 95.10.10 | E7: 範例
B8: 2
B9: 3
B10: 4
A11: 男子銳劍 | B11: 1
B12: 2
B13: 3
B14: 4
A15: 男子軍刀 | B15: 1
B16: 2
B17: 3
B18: 4
A19: 女子鈍劍 | B19: 1
B20: 2
B21: 3
B22: 4
A23: 女子銳劍 | B23: 1
B24: 2
B25: 3
B26: 4
A27: 女子軍刀 | B27: 1
B28: 2
B29: 3
B30: 4
A31: 體育組長： 註冊組長： 校 長： 學務主任： 教務主任： 加蓋學校印信： (表格不足時，請自行增加表格)

Sheet 國小男子團體
A1: 臺北市115學年度教育盃國民小學擊劍錦標賽 | G1: 臺北市115學年度教育盃國民小學擊劍錦標賽 | M1: 臺北市115學年度教育盃國民小學擊劍錦標賽
A2: 單位名稱： | B2: =隊職員名單!$B$2 -> (學校全銜) | D2: 領 隊： | E2: =隊職員名單!$B$3 -> 0 | G2: 單位名稱： | H2: =隊職員名單!$B$2 -> (學校全銜) | J2: 領 隊： | K2: =隊職員名單!$B$3 -> 0 | M2: 單位名稱： | N2: =隊職員名單!$B$2 -> (學校全銜) | P2: 領 隊： | Q2: =隊職員名單!$B$3 -> 0
A3: 管 理： | B3: =隊職員名單!$B$4 -> 0 | D3: 教 練： | E3: =隊職員名單!$B$5 -> 0 | G3: 管 理： | H3: =隊職員名單!$B$4 -> 0 | J3: 教 練： | K3: =隊職員名單!$B$5 -> 0 | M3: 管 理： | N3: =隊職員名單!$B$4 -> 0 | P3: 教 練： | Q3: =隊職員名單!$B$5 -> 0
A4: 填 表 人： | B4: =國小高年級組_!$B$4 -> 0 | D4: 聯絡電話: | E4: =國小高年級組_!$E$4 -> 0 | G4: 填 表 人： | H4: =國小高年級組_!$B$4 -> 0 | J4: 聯絡電話: | K4: =國小高年級組_!$E$4 -> 0 | M4: 填 表 人： | N4: =國小高年級組_!$B$4 -> 0 | P4: 聯絡電話: | Q4: =國小高年級組_!$E$4 -> 0
A5: 組 別： | B5: □ 國小男子鈍劍團體組 (請打V) 各項團體每校每項目至多2隊 | G5: 組 別： | H5: □ 國小男子銳劍團體組 (請打V) 各項團體每校每項目至多2隊 | M5: 組 別： | N5: □ 國小男子軍刀團體組 (請打V) 各項團體每校每項目至多2隊
A6: 項目 | B6: No. | C6: 姓名 | D6: 出生日期(生日請以民國填寫) | E6: 備註 | G6: 項目 | H6: No. | I6: 姓名 | J6: 出生日期(生日請以民國填寫) | K6: 備註 | M6: 項目 | N6: No. | O6: 姓名 | P6: 出生日期(生日請以民國填寫) | Q6: 備註
A7: 鈍劍團體A | B7: 1 | C7: 王大明 | D7: 95.10.10 | E7: 範例 | G7: 銳劍團體A | H7: 1 | I7: 王大明 | J7: 95.10.10 | K7: 範例 | M7: 軍刀團體A | N7: 1 | O7: 王大明 | P7: 95.10.10 | Q7: 範例
B8: 2 | H8: 2 | N8: 2
B9: 3 | H9: 3 | N9: 3
B10: 4 | H10: 4 | N10: 4
A11: 鈍劍團體B | B11: 1 | G11: 銳劍團體B | H11: 1 | M11: 軍刀團體B | N11: 1
B12: 2 | H12: 2 | N12: 2
B13: 3 | H13: 3 | N13: 3
B14: 4 | H14: 4 | N14: 4
A15: 體育組長： 註冊組長： 校 長： 學務主任： 教務主任： 加蓋學校印信： (表格不足時，請自行增加表格) | G15: 體育組長： 註冊組長： 校 長： 學務主任： 教務主任： 加蓋學校印信： (表格不足時，請自行增加表格) | M15: 體育組長： 註冊組長： 校 長： 學務主任： 教務主任： 加蓋學校印信： (表格不足時，請自行增加表格)

Sheet 國小女子團體組
A1: 臺北市115學年度教育盃國民小學擊劍錦標賽 | G1: 臺北市115學年度教育盃國民小學擊劍錦標賽 | M1: 臺北市115學年度教育盃國民小學擊劍錦標賽
A2: 單位名稱： | B2: =隊職員名單!$B$2 -> (學校全銜) | D2: 領 隊： | E2: =隊職員名單!$B$3 -> 0 | G2: 單位名稱： | H2: =隊職員名單!$B$2 -> (學校全銜) | J2: 領 隊： | K2: =隊職員名單!$B$3 -> 0 | M2: 單位名稱： | N2: =隊職員名單!$B$2 -> (學校全銜) | P2: 領 隊： | Q2: =隊職員名單!$B$3 -> 0
A3: 管 理： | B3: =隊職員名單!$B$4 -> 0 | D3: 教 練： | E3: =隊職員名單!$B$5 -> 0 | G3: 管 理： | H3: =隊職員名單!$B$4 -> 0 | J3: 教 練： | K3: =隊職員名單!$B$5 -> 0 | M3: 管 理： | N3: =隊職員名單!$B$4 -> 0 | P3: 教 練： | Q3: =隊職員名單!$B$5 -> 0
A4: 填 表 人： | B4: =國小高年級組_!$B$4 -> 0 | D4: 聯絡電話: | E4: =國小高年級組_!$E$4 -> 0 | G4: 填 表 人： | H4: =國小高年級組_!$B$4 -> 0 | J4: 聯絡電話: | K4: =國小高年級組_!$E$4 -> 0 | M4: 填 表 人： | N4: =國小高年級組_!$B$4 -> 0 | P4: 聯絡電話: | Q4: =國小高年級組_!$E$4 -> 0
A5: 組 別： | B5: □ 國小女子鈍劍團體組 (請打V) 各項團體每校每項目至多2隊 | G5: 組 別： | H5: □ 國小女子銳劍團體組 (請打V) 各項團體每校每項目至多2隊 | M5: 組 別： | N5: □ 國小女子軍刀團體組 (請打V) 各項團體每校每項目至多2隊
A6: 項目 | B6: No. | C6: 姓名 | D6: 出生日期(生日請以民國填寫) | E6: 備註 | G6: 項目 | H6: No. | I6: 姓名 | J6: 出生日期(生日請以民國填寫) | K6: 備註 | M6: 項目 | N6: No. | O6: 姓名 | P6: 出生日期(生日請以民國填寫) | Q6: 備註
A7: 鈍劍團體A | B7: 1 | C7: 王大明 | D7: 95.10.10 | E7: 範例 | G7: 銳劍團體A | H7: 1 | I7: 王大明 | J7: 95.10.10 | K7: 範例 | M7: 軍刀團體A | N7: 1 | O7: 王大明 | P7: 95.10.10 | Q7: 範例
B8: 2 | H8: 2 | N8: 2
B9: 3 | H9: 3 | N9: 3
B10: 4 | H10: 4 | N10: 4
A11: 鈍劍團體B | B11: 1 | G11: 銳劍團體B | H11: 1 | M11: 軍刀團體B | N11: 1
B12: 2 | H12: 2 | N12: 2
B13: 3 | H13: 3 | N13: 3
B14: 4 | H14: 4 | N14: 4
A15: 體育組長： 註冊組長： 校 長： 學務主任： 教務主任： 加蓋學校印信： (表格不足時，請自行增加表格) | G15: 體育組長： 註冊組長： 校 長： 學務主任： 教務主任： 加蓋學校印信： (表格不足時，請自行增加表格) | M15: 體育組長： 註冊組長： 校 長： 學務主任： 教務主任： 加蓋學校印信： (表格不足時，請自行增加表格)
